
BEGIN:VCALENDAR
PRODID:-//Google Inc//Google Calendar 70.9054//EN
VERSION:2.0
CALSCALE:GREGORIAN  
METHOD:PUBLISH

BEGIN:VEVENT
SUMMARY:Stage de communication non-violente
LOCATION:Maison des Échevins (privatisée)
UID:0EE45778-C162-7E5E-037BC2720E66B897
DTSTAMP:20260422T121554L
DTSTART:20230223T230000Z
DTEND:20230223T230000Z
DESCRIPTION: 24-25 f&eacute;vrier 2023Module 1 du stage anim&eacute; par Edith Tavernier (AT Conseil)
CLASS:PUBLIC
END:VEVENT

END:VCALENDAR
